BEGIN:VCALENDAR
VERSION:2.0
PRODID:-//Islamic Financial Services Board - ECPv6.15.18//NONSGML v1.0//EN
CALSCALE:GREGORIAN
METHOD:PUBLISH
X-ORIGINAL-URL:https://www.ifsb.org
X-WR-CALDESC:Events for Islamic Financial Services Board
REFRESH-INTERVAL;VALUE=DURATION:PT1H
X-Robots-Tag:noindex
X-PUBLISHED-TTL:PT1H
BEGIN:VTIMEZONE
TZID:UTC
BEGIN:STANDARD
TZOFFSETFROM:+0000
TZOFFSETTO:+0000
TZNAME:UTC
DTSTART:20150101T000000
END:STANDARD
END:VTIMEZONE
BEGIN:VTIMEZONE
TZID:Asia/Kuala_Lumpur
BEGIN:STANDARD
TZOFFSETFROM:+0800
TZOFFSETTO:+0800
TZNAME:+08
DTSTART:20210101T000000
END:STANDARD
END:VTIMEZONE
BEGIN:VEVENT
DTSTART;TZID=UTC:20160111T090000
DTEND;TZID=UTC:20230114T163000
DTSTAMP:20260423T052504
CREATED:20160110T231836Z
LAST-MODIFIED:20231228T015232Z
UID:11699-1452502800-1673713800@www.ifsb.org
SUMMARY:IFSB-FIS Workshop Series (Sudan)
DESCRIPTION:This 4-day workshop is tailored for the regulatory and supervisory authorities and the market players for the banking sector within Sudan. The major focus of the workshop will be on the most recent Guiding Principles which address the new global regulatory requirements for the supervisory review process and for liquidity management. The workshop will discuss the following IFSB Standards:\n\n 	IFSB-16: Revised Guidance on Key Elements In The Supervisory Review Process of IIFS\n 	GN-6: Guidance Note on Quantitative Measures for Liquidity Risk Management in IIFS\n\nOverall\, this Workshop aims to:\n\n\n 	Enhance the participants’ understanding of the respective Standards and Guiding Principles thereby facilitating the implementation of these standards in their respective jurisdictions;\n\n 	Assist the participants in the practical application of issues addressed in the particular standards through case studies\, hands-on exercises and other interactive tools; and\n\n 	Promote the sharing of experiences among the participants on the implementation of respective IFSB Standards and Guiding Principles. \n\n\nThis Workshop is hosted by Central Bank of Sudan and participation in this Workshop is by INVITATION only. For queries\, please contact the IFSB Secretariat\, Mr. Hamizi Hamzah at hamizi@ifsb.org.\n\nProgramme – Event Session(s)\n\n\n\nDate\nTime\nTopics\n\n\nDay 1\n11/01/2016\n09:00 – 09:30\nRegistration\n\n\n09:30 – 09:45\nOpening Session by the IFSB and the CBOS Representatives\n\n\n09:45 – 11:00\nSession 1: IFSB-16: Revised Guidance on Key Elements In The Supervisory Review Process (SRP) Introduction to IFSB-16 Necessary Preconditions for Effective Supervision Additional Considerations in the Issuance of an IIFS License Supervisory Approaches in the Supervision of IIFS\n\n\n11:00 – 11:30\nGroup Photo and Coffee Break\n\n\n11:30 – 13:00\nSession 2: IFSB-16: Revised Guidance on Key Elements In The SRP – Continued Regulatory Capital Requirements Guidance on the Slotting Method Treatment of IAH and Displaced Commercial Risk Advanced Approaches and Supervisory Discretion\n\n\n13:00 – 14:00\nLunch and Prayer\n\n\n14:00 – 16:00\nSession 3: IFSB-16: Revised Guidance on Key Elements In The SRP – Continued Internal Capital Adequacy Assessment Process (ICAAP) ICAAP Framework for IIFS Supervisory Review Process in ICAAP Case Study\n\n\n16:00 – 16:30\nCoffee Break\n\n\nDay 2\n12/01/2016\n09:00 – 09:30\nRegistration\n\n\n09:30 – 11:00\nSession 4: IFSB-16: Revised Guidance on Key Elements In The SRP – Continued Corporate Governance Sharī`ah Governance Risk Management Processes Enterprise-wide Risk Management Framework\n\n\n11:00 – 11:30\nCoffee Break\n\n\n11:30 – 13:00\nSession 5: IFSB 16: Revised Guidance on Key Elements In The SRP – Continued Related Party Transactions Secrutisation Risk and Related Off-balance Sheet Exposures Special Purpose Entities (SPEs) and Key Considerations in the Supervisory Review Process Case Study\n\n\n13:00 – 14:00\nLunch and Prayer\n\n\n14:00 – 16:00\nSession 6: IFSB 16: Revised Guidance on Key Elements In The SRP – Continued Transparency and Market Discipline Consolidated and Home-host Supervision Supervisory College and IIFS Specific Issues Case Study\n\n\n16:00 – 16:30\nCoffee Break\n\n\nDay 3\n13/01/2016\n09:00 – 09:30\nRegistration\n\n\n09:30 – 11:00\nSession 7: IFSB 16: Revised Guidance on Key Elements In The SRP – Continued Supervisory Review for Credit Concentration Risk Concentration Limits for Real Estate Investment Islamic Windows Operations Case Study\n\n\n11:00 – 11:30\nCoffee Break\n\n\n11:30 – 13:00\nSession 8: IFSB-16: Revised Guidance on Key Elements In The SRP – Continued Liquidity Risk Management and Supervision Sound Stress Testing Practices Sharī`ah-compliant Hedging Techniques Supervisory Transparency and Accountability\n\n\n13:00 – 14:00\nLunch and Prayer\n\n\n14:00 – 16:00\nSession 9: GN-6: Guidance Note on Quantitative Measures for Liquidity Risk Management Application of the Liquidity Coverage Ratio (LCR) in IIFS Definition and Categorisation of High Quality Liquid Assets (HQLA) Operational Considerations for HQLA Infrastructure Issues in the Availability of Sharī`ah-compliant HQLA\n\n\n16:00 – 16:30\nCoffee Break\n\n\nDay 4\n14/01/2016\n09:00 – 09:30\nRegistration\n\n\n09:30 – 11:00\nSession 10: GN-6: Guidance Note on Quantitative Measures for Liquidity Risk Management – Continued Components of Total Net Cash Outflows Categories of Cash Outflow Cash Inflows Case Study\n\n\n11:30 – 11:30\nCoffee Break\n\n\n11:30 – 13:00\nSession 11: GN-6: Guidance Note on Quantitative Measures for Liquidity Risk Management – Continued Net Stable Funding Ratio (NSFR) Application of the NSFR in IIFS The Internal Liquidity Adequacy Assessment and Supervisory Liquidity Review Processes Application of LCR and NSFR\n\n\n13:00 – 14:00\nLunch and Prayer\n\n\n14:00 – 16:00\nSession 12: GN-6: Guidance Note on Quantitative Measures for Liquidity Risk Management – Continued Principles for Applying Alternative Liquidity Approaches Disclosure Requirements for LCR and NSFR Evaluation of the Market Liquidity of Assets Case Study\n\n\n16:00 – 16:15\nClosing & Certificate Giving Ceremony\n\n\n16:15 – 16:45\nCoffee Break\n\n\n\nDownloadable Document(s)\n\n\n\n\n1.)\n\nEvent Session(s) – PDF Format
URL:https://www.ifsb.org/event/eve00266-ifsb-fis-workshop-series-sudan/
LOCATION:The Corinthia Hotel Khartoum\, Sudan\, Khartoum\, Sudan
CATEGORIES:Capacity Building
ATTACH;FMTTYPE=image/png:https://www.ifsb.org/wp-content/uploads/2023/12/Group-1146.png
END:VEVENT
BEGIN:VEVENT
DTSTART;TZID=UTC:20170328T083000
DTEND;TZID=UTC:20231026T121500
DTSTAMP:20260423T052504
CREATED:20170327T160027Z
LAST-MODIFIED:20231228T011658Z
UID:7054-1490689800-1698322500@www.ifsb.org
SUMMARY:IFSB-FIS Workshop Series (Tajikistan)
DESCRIPTION:This 4-day workshop is tailored for the National Bank of Tajikistan. It will discuss the introduction to Islamic finance and the following IFSB Standards:\n\n 	IFSB-2: Capital Adequacy Standard for Institutions offering only Islamic Financial Services (IIFS)\n 	IFSB-16: Revised Guidance on Key Elements in the Supervisory Review Process of IIFS\n 	GN-4: Guidance Note in Connection with the IFSB Capital Adequacy Standard: The Determination of Alpha in the Capital Adequacy Ratio (CAR) for IIFS\n\nOverall\, this Workshop aims to:\n\n 	Enhance the participants’ understanding of the respective Standards and Guiding Principles thereby facilitating the implementation of these standards in their respective jurisdictions;\n 	Assist the participants in the practical application of issues addressed in the particular standards through case studies\, hands-on exercises and other interactive tools; and\n 	Promote the sharing of experiences among the participants on the implementation of respective IFSB Standards and Guiding Principles.\n\nThis Workshop is hosted by the National Bank of Tajikistan and supported by the Islamic Development Bank. Participation in this Workshop is by INVITATION only. For queries\, please contact the IFSB Secretariat\, Mr. Hamizi Hamzah at hamizi@ifsb.org.\n\nProgramme – Event Session(s)\n\n\n\nDate\nTime\nTopics\n\n\nDay 1\n28/03/2017\n08:30 – 09:00\nRegistration\n\n\n09:00 – 09:30\nOpening Remarks by the NBT and IFSB Representatives Group Photo\n\n\n09:30 – 11:00\nSession 1 – Introduction to Islamic Finance Concept of Islamic Finance Contracts in Islamic Finance Structures of Islamic Banking Products Prudential Issues in IIFS\n\n\n11:00 – 11:30\nCoffee Break\n\n\n11:30 – 13:00\nSession 2 – IFSB-2: Capital Adequacy Standard for IIFS Need for Capital Regulation Pillar 1: Capital Adequacy Ratio (CAR): Understanding the Components of CAR CAR Formulas – Standard and Supervisory Discretion Treatment of PSIA – Supervisory Discretion Formula\n\n\n13:00 – 14:00\nLunch and Prayer\n\n\n14:00 – 16:00\nSession 3 – IFSB-2: Capital Adequacy Standard for IIFS (Cont’d) Credit Risk Weights for Various Counterparties Off-balance Sheet Exposures Exposures in Investments Made under Profit-Sharing Modes Credit Risk Mitigation\n\n\nDay 2\n29/03/2017\n09:30 – 11:00\nSession 4 – IFSB-2: Capital Adequacy Standard for IIFS (Cont’d) Measurement of Capital Adequacy Requirements for Market Risk Measurement of Market Risk Market Risk Weight Conversion Factor Case Study\n\n\n11:00 – 11:30\nCoffee Break\n\n\n11:30 – 12:00\nSession 5 – IFSB-2: Capital Adequacy Standard for IIFS (Cont’d) Overview of Operational Risk Understanding Operational Risk in Islamic Finance Measuring Operational Risks Group Exercise\n\n\n13:00 – 14:00\nLunch and Prayer\n\n\n14:00 – 16:00\nSession 6 – GN-4: Guidance Note in Connection with the IFSB Capital Adequacy Standard: The Determination of Alpha in the Capital Adequacy Ratio for IIFS Background of the Guidance Note Understanding Management of Profit-Sharing Investment Account (PSIA) Understanding the Concept of Alpha and Displaced Commercial Risk (DCR) Measurement of Risk Sharing in PSIA\n\n\nDay 3\n30/03/2017\n09:30 – 11:00\nSession 7 – GN-4: Guidance Note in Connection with the IFSB Capital Adequacy Standard: The Determination of Alpha in the Capital Adequacy Ratio for IIFS (Cont’d) The Determination of Alpha and DCR Issues on Prudential Regulations and Requirements Role of Supervisory Authority in Determination of Alpha and DCR Case Study\n\n\n11:00 – 11:30\nCoffee Break\n\n\n11:30 – 13:00\nSession 8 – IFSB-16: Revised Guidance on Key Elements In The Supervisory Review Process Necessary Preconditions for Effective Supervision Supervisory Approaches in the Supervision of IIFS Regulatory Capital Requirements Advanced Approaches and Supervisory Discretion\n\n\n13:00 – 14:00\nLunch and Prayer\n\n\n14:00 – 16:00\nSession 9 -IFSB-16: Revised Guidance on Key Elements In The Supervisory Review Process (Cont’d) Internal Capital Adequacy Assessment Process (ICAAP) Corporate and Sharī’ah Governance Related Party Transactions Case Study\n\n\nDay 4\n31/03/2017\n08:30 – 10:00\nSession 10 – IFSB-16: Revised Guidance on Key Elements In The Supervisory Review Process (Cont’d) Transparency and Market Discipline Consolidated and Cross-sector Supervision Risk Concentrations in IIFS Case Study\n\n\n10:00 – 10:15\nCoffee Break\n\n\n10:15 – 11:45\nSession 11 – IFSB-16: Revised Guidance on Key Elements In The Supervisory Review Process (Cont’d) Islamic “Windows” Operations Liquidity Risk Management and Supervision Sound Stress Testing Practices Supervisory Transparency and Accountability\n\n\n11:45 – 12:15\nClosing & Certificate Giving Ceremony
URL:https://www.ifsb.org/event/eve00290-ifsb-fis-workshop-series-tajikistan/
LOCATION:Dushnabe\, Dushnabe\, Dushnabe\, Tajikistan
CATEGORIES:Capacity Building
ATTACH;FMTTYPE=image/png:https://www.ifsb.org/wp-content/uploads/2023/12/Group-1146.png
END:VEVENT
BEGIN:VEVENT
DTSTART;VALUE=DATE:20220609
DTEND;VALUE=DATE:20220610
DTSTAMP:20260423T052504
CREATED:20220608T160003Z
LAST-MODIFIED:20231228T014537Z
UID:4155-1654732800-1654819199@www.ifsb.org
SUMMARY:Islamic Financial Services Board (IFSB) Annual Meetings 2022: 40th Meeting of the Council\, 20th General Assembly and Side Events
DESCRIPTION:The Islamic Financial Services Board (IFSB) in consultation with the State Bank of Pakistan announced that the planned IFSB Annual Meetings 2022 that were scheduled from 23 May to 25 May 2022 in Islamabad\, Pakistan will now be held in virtual format (online) on Thursday\, 9 June 2022.\n\nThe side events including the Regulators Roundtable that were initially scheduled to take place alongside the 20th General Assembly and 40th Meeting of the Council are deferred to another date that the Secretariat will announce in due course.\n\nWe are also pleased to update the timing of the 40th Meeting of the Council and 20th General Assembly as follows:\n\n40th Meeting of the Council\n\nTime: 2:00 PM\, Pakistan Time\n\n20th General Assembly\nTime: 4:15 PM\, Pakistan Time\n\nParticipation in the General Assembly and Council meeting is by invitation only. For inquiries and registration\, please email Ms. Nissa at khairun.nissa@ifsb.org.\n\nPlease visit www.ifsb.org for updates on the above event.The IFSB and SBP look forward to the participation of the members of the IFSB in the meetings.
URL:https://www.ifsb.org/event/eve00550-islamic-financial-services-board-ifsb-annual-meetings-2022-40th-meeting-of-the-council-20th-general-assembly-and-side-events/
LOCATION:Online
CATEGORIES:Meetings
ATTACH;FMTTYPE=image/png:https://www.ifsb.org/wp-content/uploads/2023/12/Group-1146.png
END:VEVENT
BEGIN:VEVENT
DTSTART;VALUE=DATE:20220615
DTEND;VALUE=DATE:20220616
DTSTAMP:20260423T052504
CREATED:20220614T160048Z
LAST-MODIFIED:20231228T014527Z
UID:4153-1655251200-1655337599@www.ifsb.org
SUMMARY:[ARABIC] - Public Hearing on IFSB-AAOIFI Revised Shariah Governance Framework (ED-RSGF)
DESCRIPTION:In its IFSB 56th Technical Committee Meeting held on 24 March 2022\, the Technical Committee of the Islamic Financial Services Board has approved the issuance of the following Exposure Drafts (ED) for public consultation; \n\n\n 	IFSB-AAOIFI Shariah Governance Framework (ED-RSGF)\n\n \nThe Public Consultation period will be from 31 March 2022 until 23 June 2022 \nIn conjunction to the above\, the IFSB will be organising a Webinar for the [Arabic] Public Hearing on the ED-RSGF on Wednesday\, 15 June 2022 at 3.30 PM (GMT +8.00\, Malaysia time). Therefore\, the IFSB would like to invite all members\, stakeholders and interested parties to attend the above programme. \n \nKindly register in advance for this webinar: \nhttps://zoom.us/webinar/register/WN_cjoQmlbGT7em9LrT8u1Sog \n \nAn email confirmation containing about joining the webinar will be sent after registration. \nMs. Fadhila Izzati Mokhtar (fadhila@ifsb.org) is the person in charge of the Public Hearing and she would be pleased to respond to any enquiries relating to the Webinar. \n \nWe look forward to receiving your registration for Public Hearing session as well as feedback on ED-RSGF.
URL:https://www.ifsb.org/event/eve00564-arabic-public-hearing-on-ifsb-aaoifi-revised-shariah-governance-framework-ed-rsgf/
LOCATION:Online
CATEGORIES:Meetings
ATTACH;FMTTYPE=image/png:https://www.ifsb.org/wp-content/uploads/2023/12/Group-1146.png
END:VEVENT
BEGIN:VEVENT
DTSTART;VALUE=DATE:20220616
DTEND;VALUE=DATE:20220617
DTSTAMP:20260423T052504
CREATED:20220615T160032Z
LAST-MODIFIED:20231228T014518Z
UID:4150-1655337600-1655423999@www.ifsb.org
SUMMARY:IFSB Roundtable on Exposure Draft: IFSB–AAOIFI Revised Sharīʻah Governance Framework for IIFS
DESCRIPTION:The Roundtable is organised by the IFSB to discuss the Exposure Draft (ED) of the IFSB–AAOIFI Revised Sharīʻah Governance Framework for Institutions Offering Islamic Financial Services (ED RSGF)\, in line with the IFSB due process for the development of Standards and Guidance/Technical Notes.\n\nThe aim of EDRSGF is to provide a revised set of guiding principles and rules on the key components of a sound and effective Shari`ah governance framework for IIFS. The ED RSGF applies to IIFS (including Islamic windows) in the Islamic banking\, takāful (Islamic insurance) and Islamic capital market sectors. RSAs may choose to apply the standard to other IIFS in their jurisdictions. The Standard adopts a principle-plus-rule approach that provides a comprehensive set of Sharīʻah governance practices for implementing each principle.\n\nThe Roundtable aims to invite selected experts\, regulators and Islamic scholars to discuss the significant issues of the Guiding Principles for Sharīʻah Governance Framework of the ED RSGF with a view to soliciting constructive and practical feedback on its contents\, particularly focusing on issues that require closer deliberation by key stakeholders.
URL:https://www.ifsb.org/event/eve00571-ifsb-roundtable-on-exposure-draft-ifsb-aaoifi-revised-shari%ca%bbah-governance-framework-for-iifs/
ATTACH;FMTTYPE=image/png:https://www.ifsb.org/wp-content/uploads/2023/12/Group-1146.png
END:VEVENT
BEGIN:VEVENT
DTSTART;VALUE=DATE:20220620
DTEND;VALUE=DATE:20220621
DTSTAMP:20260423T052504
CREATED:20220619T160042Z
LAST-MODIFIED:20231228T014510Z
UID:4143-1655683200-1655769599@www.ifsb.org
SUMMARY:[ENGLISH] - Public Hearing on IFSB-AAOIFI Shariah Governance Framework (ED-RSGF)
DESCRIPTION:In its IFSB 56th Technical Committee Meeting held on 24 March 2022\, the Technical Committee of the Islamic Financial Services Board has approved the issuance of the following Exposure Drafts (ED) for public consultation; \n \n\n 	IFSB-AAOIFI Shariah Governance Framework (ED-RSGF)\n\n \n\nThe Public Consultation period will be from 31 March 2022 until 23 June 2022.\n\n \n\nIn conjunction to the above\, the IFSB will be organising a Webinar for the [ENGLISH] Public Hearing on the ED-RSGF on Monday\, 20 June 2022 at 3.00 PM (GMT +8.00\, Malaysia time). Therefore\, the IFSB would like to invite all members\, stakeholders and interested parties to attend the above programme.\n\n \n\nKindly register in advance for this webinar:\n\nhttps://zoom.us/webinar/register/WN_-hjtr0fqSWii3TDF87mTZA\n\n \n\nAn email confirmation containing about joining the webinar will be sent after registration.\n\n \n\nMs. Fadhila Izzati Mokhtar (fadhila@ifsb.org) is the person in charge of the Public Hearing and she would be pleased to respond to any enquiries relating to the Webinar.\n\n \n\nWe look forward to receiving your registration for Public Hearing session as well as feedback on ED-RSGF.\n\n \n\nEvent Snapshots\n\n\n\n\n\n 
URL:https://www.ifsb.org/event/eve00570-english-public-hearing-on-ifsb-aaoifi-shariah-governance-framework-ed-rsgf/
LOCATION:Online
CATEGORIES:Meetings
ATTACH;FMTTYPE=image/jpeg:https://www.ifsb.org/wp-content/uploads/2023/10/EVE00570-3.jpg
END:VEVENT
BEGIN:VEVENT
DTSTART;VALUE=DATE:20220627
DTEND;VALUE=DATE:20220628
DTSTAMP:20260423T052504
CREATED:20220626T160014Z
LAST-MODIFIED:20231228T014501Z
UID:4132-1656288000-1656374399@www.ifsb.org
SUMMARY:3rd Working Group Meeting of the Revised Guiding Principles on Corporate Governance for Institutions offering Islamic Financial Services [Banking Segment]
DESCRIPTION:The 3rd Working Group Meeting of the Revised Guiding Principles on Corporate Governance for Institutions offering Islamic Financial Services [Banking Segment] is scheduled to held as follow : \n  \n\n\n\nDate\n27 June 2022\n\n\nTime\n3.30 PM (GMT +8.00\, KL time)\n\n\nVenue\nvia web conference / webinar\n\n\n\n  \nParticipation in the meeting is open for the Working Group members only. For more information please email to: fadhila@ifsb.org
URL:https://www.ifsb.org/event/eve00558-3rd-working-group-meeting-of-the-revised-guiding-principles-on-corporate-governance-for-institutions-offering-islamic-financial-services-banking-segment/
LOCATION:Online
CATEGORIES:Meetings
ATTACH;FMTTYPE=image/svg+xml:https://www.ifsb.org/wp-content/uploads/2023/10/Group-246.svg
END:VEVENT
BEGIN:VEVENT
DTSTART;VALUE=DATE:20220627
DTEND;VALUE=DATE:20220701
DTSTAMP:20260423T052504
CREATED:20220626T160041Z
LAST-MODIFIED:20231228T014453Z
UID:5555-1656288000-1656633599@www.ifsb.org
SUMMARY:Facilitating the implementation of the IFSB standards (FIS) for The Bangko Sentral Ng Pilipinas
DESCRIPTION:This tailor-made workshop is dedicated for the Central Bank of Philippines (Bangko Sentral Ng Philipinas) to discuss several IFSB standards and other topics related to Islamic banking\, Islamic capital markets\, and takaful.\n\nThe 4-day workshop is supposed to cover the following topics:\n1- Core principles for Islamic finance regulation.\n\n2- Sharia-compliant lender of last resort.\n\n3- Digital transformation in Islamic banking.\n\n4-Industry Practices of Structuring Islamic Liquidity Instruments and Islamic Banking products.\n\n5- Disclosure Requirements for Islamic Capital Markets (Sukuk).\n\n6- Key Elements in the Supervisory Review Process (SRP) of Takaful/ Retakaful Undertakings.\n\nThe workshop is part of the IFSB members’ benefits as a tool to facilitate the implementation of IFSB standards.
URL:https://www.ifsb.org/event/eve00561-facilitating-the-implementation-of-the-ifsb-standards-fis-for-the-bangko-sentral-ng-pilipinas-2/
LOCATION:Online
CATEGORIES:Capacity Building
ATTACH;FMTTYPE=image/png:https://www.ifsb.org/wp-content/uploads/2023/12/Group-1146.png
END:VEVENT
BEGIN:VEVENT
DTSTART;VALUE=DATE:20220628
DTEND;VALUE=DATE:20220629
DTSTAMP:20260423T052504
CREATED:20220627T160019Z
LAST-MODIFIED:20231228T014427Z
UID:4130-1656374400-1656460799@www.ifsb.org
SUMMARY:6th Task Force Meeting of Technical Note on Shariah-compliant Liquidity Management Tools
DESCRIPTION:The 6th Task Force Meeting of Technical Note on Shariah-compliant Liquidity Management Tools is scheduled to be held as follow :\n\n \n\n\n\nDate\n28 June 2022\n\n\nTime\n4.30 PM (GMT +8.00\, KL time)\n\n\nVenue\nWeb-conference / webinar\n\n\n\n \n\nParticipation in the meeting is open to the Task Force members only. For more information\, please email to fadhila@ifsb.org.
URL:https://www.ifsb.org/event/eve00559-6th-task-force-meeting-of-technical-note-on-shariah-compliant-liquidity-management-tools/
LOCATION:Online
CATEGORIES:Meetings
ATTACH;FMTTYPE=image/png:https://www.ifsb.org/wp-content/uploads/2023/12/Group-1146.png
END:VEVENT
END:VCALENDAR