BEGIN:VCALENDAR
VERSION:2.0
PRODID:-//Islamic Financial Services Board - ECPv6.15.18//NONSGML v1.0//EN
CALSCALE:GREGORIAN
METHOD:PUBLISH
X-ORIGINAL-URL:https://www.ifsb.org
X-WR-CALDESC:Events for Islamic Financial Services Board
REFRESH-INTERVAL;VALUE=DURATION:PT1H
X-Robots-Tag:noindex
X-PUBLISHED-TTL:PT1H
BEGIN:VTIMEZONE
TZID:UTC
BEGIN:STANDARD
TZOFFSETFROM:+0000
TZOFFSETTO:+0000
TZNAME:UTC
DTSTART:20090101T000000
END:STANDARD
END:VTIMEZONE
BEGIN:VEVENT
DTSTART;TZID=UTC:20100801T090000
DTEND;TZID=UTC:20100802T153000
DTSTAMP:20260420T053459
CREATED:20100731T164424Z
LAST-MODIFIED:20231228T021219Z
UID:12275-1280653200-1280763000@www.ifsb.org
SUMMARY:Introduction to Islamic Finance & the IFSB Standards | Supervisory Review Process
DESCRIPTION:Introduction to Islamic Finance & the IFSB Standards Supervisory Review Process\n\nProgramme – Event Session(s)\n\n\n\nDate\nTime\nTopics\n\n\nDay 1\n01/08/2010\nWORKSHOP ON INTRODUCTION TO ISLAMIC FINANCE AND THE IFSB STANDARDS (SPEAKER : RONALD RULINDO\, SENIOR EXECUTIVE\, IFSB)\n\n\n09:00 – 09:15\nRegistration\n\n\n09:15 – 09:30\nOpening\n\n\n09:30 – 10:45\nSession 1 – Concept and Contracts of Islamic Finance\n\n\n10:45 – 11:15\nCoffee Break\n\n\n11:15 – 12:45\nSession 2 Products of Islamic Financial Services Institution\n\n\n12:45 – 13:45\nLunch & Prayer\n\n\n13:45 – 15:15\nSession 3 Overview of the IFSB Standards and Guiding Principles\n\n\n15:15 – 16:00\nSession 4 Case Studies and Discussion\n\n\n16:00 – 15:30\nCoffee Break\n\n\nDay 2\n02/08/2010\nWORKSHOP ON SUPERVISORY REVIEW PROCESS (SRP) (SPEAKER : ZAHID UR REHMAN KHOKER\, ASSISTANT MANGER\, IFSB)\n\n\n09:00 – 10:30\nSession 1 An overview of Supervisory Review Process Standard Infrastructure for Effective Supervision Regulatory Capital Requirements Treatment of IAH\n\n\n10:30 – 11:00\nCoffee Break\n\n\n11:00 – 12:30\nSession 2 Risk Management and Corporate Governance (RM\, CG\, Audit and Compliance) Related Party Transaction\n\n\n12:30 – 13:30\nLunch & Prayer\n\n\n13:30 – 15:00\nSession 3 Transparency and Market Discipline Consolidated and Home-host Supervision Window Operations Real Estate Investments\n\n\n15:00 – 16:00\nSession 4 Case Analysis (I) & Discussion Case Analysis (II) & Discussion\n\n\n16:00 – 16:30\nCoffee Break\n\n\n\nDownloadable Document(s)\n\n\n\n1.)\n\nEvent Session(s) – PDF Format
URL:https://www.ifsb.org/event/eve00129-introduction-to-islamic-finance-the-ifsb-standards-supervisory-review-process/
LOCATION:Maldives Monetary Authority\, Male\, Maldives
CATEGORIES:Capacity Building
ATTACH;FMTTYPE=image/png:https://www.ifsb.org/wp-content/uploads/2023/12/Group-1146.png
END:VEVENT
END:VCALENDAR