BEGIN:VCALENDAR
VERSION:2.0
PRODID:-//Islamic Financial Services Board - ECPv6.15.18//NONSGML v1.0//EN
CALSCALE:GREGORIAN
METHOD:PUBLISH
X-WR-CALNAME:Islamic Financial Services Board
X-ORIGINAL-URL:https://www.ifsb.org
X-WR-CALDESC:Events for Islamic Financial Services Board
REFRESH-INTERVAL;VALUE=DURATION:PT1H
X-Robots-Tag:noindex
X-PUBLISHED-TTL:PT1H
BEGIN:VTIMEZONE
TZID:Asia/Kuala_Lumpur
BEGIN:STANDARD
TZOFFSETFROM:+0800
TZOFFSETTO:+0800
TZNAME:+08
DTSTART:20220101T000000
END:STANDARD
END:VTIMEZONE
BEGIN:VTIMEZONE
TZID:UTC
BEGIN:STANDARD
TZOFFSETFROM:+0000
TZOFFSETTO:+0000
TZNAME:UTC
DTSTART:20220101T000000
END:STANDARD
END:VTIMEZONE
BEGIN:VEVENT
DTSTART;TZID=Asia/Kuala_Lumpur:20251210T100000
DTEND;TZID=Asia/Kuala_Lumpur:20251210T140000
DTSTAMP:20260420T194346
CREATED:20251006T034944Z
LAST-MODIFIED:20251006T035117Z
UID:39178-1765360800-1765375200@www.ifsb.org
SUMMARY:47th Council Meeting
DESCRIPTION:
URL:https://www.ifsb.org/event/47th-council-meeting/
LOCATION:Marrakesh
CATEGORIES:Meetings
END:VEVENT
BEGIN:VEVENT
DTSTART;TZID=Asia/Kuala_Lumpur:20251117T090000
DTEND;TZID=Asia/Kuala_Lumpur:20251117T170000
DTSTAMP:20260420T194346
CREATED:20251006T035201Z
LAST-MODIFIED:20251006T035205Z
UID:39174-1763370000-1763398800@www.ifsb.org
SUMMARY:IFSB 14th Executive Committee Meeting
DESCRIPTION:
URL:https://www.ifsb.org/event/ifsb-14th-executive-committee-meeting/
CATEGORIES:Meetings
END:VEVENT
BEGIN:VEVENT
DTSTART;TZID=Asia/Kuala_Lumpur:20251103T080000
DTEND;TZID=Asia/Kuala_Lumpur:20251103T170000
DTSTAMP:20260420T194346
CREATED:20251006T035723Z
LAST-MODIFIED:20251006T035726Z
UID:39171-1762156800-1762189200@www.ifsb.org
SUMMARY:IFSB 66th Technical Committee meeting
DESCRIPTION:
URL:https://www.ifsb.org/event/ifsb-66th-technical-committee-meeting/
CATEGORIES:Meetings
END:VEVENT
BEGIN:VEVENT
DTSTART;TZID=Asia/Kuala_Lumpur:20251016T090000
DTEND;TZID=Asia/Kuala_Lumpur:20251016T170000
DTSTAMP:20260420T194346
CREATED:20251006T035551Z
LAST-MODIFIED:20251006T035557Z
UID:39169-1760605200-1760634000@www.ifsb.org
SUMMARY:Islamic Development Bank (IsDB) – Islamic Financial Services Board (IFSB) Shariah Board Meeting 2025
DESCRIPTION:
URL:https://www.ifsb.org/event/islamic-development-bank-isdb-islamic-financial-services-board-ifsb-shariah-board-meeting-2025/
CATEGORIES:Meetings
END:VEVENT
BEGIN:VEVENT
DTSTART;TZID=Asia/Kuala_Lumpur:20251007T160000
DTEND;TZID=Asia/Kuala_Lumpur:20251007T190000
DTSTAMP:20260420T194346
CREATED:20251006T035454Z
LAST-MODIFIED:20251006T035501Z
UID:39167-1759852800-1759863600@www.ifsb.org
SUMMARY:3rd Working Group Meeting for Risk Management for Takaful Undertaking
DESCRIPTION:
URL:https://www.ifsb.org/event/3rd-working-group-meeting-for-risk-management-for-takaful-undertaking/
CATEGORIES:Meetings
END:VEVENT
BEGIN:VEVENT
DTSTART;TZID=Asia/Kuala_Lumpur:20250701T000000
DTEND;TZID=Asia/Kuala_Lumpur:20250703T235959
DTSTAMP:20260420T194346
CREATED:20250307T015619Z
LAST-MODIFIED:20251010T023614Z
UID:37384-1751328000-1751587199@www.ifsb.org
SUMMARY:2025 IFSB ANNUAL MEETING
DESCRIPTION:46th Council Meeting\, 23rd General Assembly and Side Events \n\n\n\nDaysDatesEventsTimeParticipationExhibitionDay 11 July 2025Welcome Dinner hosted by BAM19:30 – 22:00IFSB Members & Selected Invitees Day 22 July 2025Council Group Photo08:30 – 09:00Heads of Delegation – Full Members OnlyOpen to all     Booth Engagement – IFSB Hub   Short talks on Capacity Development\, Current Works on Standards\, IFSB Summit\, Membership   Demonstration on IFSB Data Platform   IFSI Stability Report Talk   Media interviews   Discussion area46th Meeting of the Council 09:00 – 13:00Full Members OnlySix Experience-sharing Sessions from the IFSB Associate and Observer Members09:30 – 13:00 concurrent eventsAll MembersWorkshop 1: Liquidity Risk Management and Corporate Governance for Institutions offering Islamic Finance Services (IIFS)All MembersLunch and Prayer13:00 – 14:00All Members23rd General Assembly14:00 – 16:00All MembersHeritage and Cultural Programme17:00 – 19:00All Registered GuestsDay 33 July 2025Plenary Session Welcoming and Special Address from BAM Opening Address from IFSB Keynote Address from Distinguished Guest09:30 – 10:00Public23rd Islamic Financial Stability Forum Fortifying Stability: Addressing Structural Vulnerabilities and Building Resilience in Islamic Finance10:00 – 13:00Lunch and Prayer13:00 – 14:00All2nd IFSB Consultative Group (ICG) Meeting14:00 – 16:00 concurrent eventsICG InviteesCredit Rating Agencies Forum: Strengthening Transparency and Market Confidence: The Role of Credit Rating Agencies in Advancing Islamic Finance MarketsPublicWorkshop 2: Shari’ah Governance Framework from IFSB Standards’ Perspective and Jurisdictional PracticesAll Members
URL:https://www.ifsb.org/event/2025-ifsb-annual-meeting/
LOCATION:Rabat\, Morocco
CATEGORIES:Annual Events,Capacity Building,Featured Events,Meetings
ATTACH;FMTTYPE=image/png:https://www.ifsb.org/wp-content/uploads/2025/03/Untitled-design-6.png
END:VEVENT
BEGIN:VEVENT
DTSTART;TZID=Asia/Kuala_Lumpur:20250529T160000
DTEND;TZID=Asia/Kuala_Lumpur:20250529T180000
DTSTAMP:20260420T194346
CREATED:20250507T065420Z
LAST-MODIFIED:20250507T065423Z
UID:38405-1748534400-1748541600@www.ifsb.org
SUMMARY:3rd Task Force meeting of the Guidance Note on Climate-Related Financial Risks for IIFS
DESCRIPTION:
URL:https://www.ifsb.org/event/3rd-task-force-meeting-of-the-guidance-note-on-climate-related-financial-risks-for-iifs/
CATEGORIES:Meetings
END:VEVENT
BEGIN:VEVENT
DTSTART;TZID=Asia/Kuala_Lumpur:20250528T090000
DTEND;TZID=Asia/Kuala_Lumpur:20250528T170000
DTSTAMP:20260420T194346
CREATED:20250307T015719Z
LAST-MODIFIED:20250307T030823Z
UID:37394-1748422800-1748451600@www.ifsb.org
SUMMARY:65th Technical Committee Meeting
DESCRIPTION:
URL:https://www.ifsb.org/event/65th-technical-committee-meeting/
LOCATION:Venue : TBC
CATEGORIES:Meetings
ATTACH;FMTTYPE=image/png:https://www.ifsb.org/wp-content/uploads/2025/03/Untitled-design-6.png
END:VEVENT
BEGIN:VEVENT
DTSTART;TZID=Asia/Kuala_Lumpur:20250526T080000
DTEND;TZID=Asia/Kuala_Lumpur:20250526T170000
DTSTAMP:20260420T194346
CREATED:20250307T015811Z
LAST-MODIFIED:20250307T030450Z
UID:37391-1748246400-1748278800@www.ifsb.org
SUMMARY:13th Executive Committee Meeting
DESCRIPTION:
URL:https://www.ifsb.org/event/13th-executive-committee-meeting/
CATEGORIES:Meetings
ATTACH;FMTTYPE=image/png:https://www.ifsb.org/wp-content/uploads/2025/03/Untitled-design-6.png
END:VEVENT
BEGIN:VEVENT
DTSTART;TZID=Asia/Kuala_Lumpur:20250508T160000
DTEND;TZID=Asia/Kuala_Lumpur:20250508T180000
DTSTAMP:20260420T194346
CREATED:20250507T065714Z
LAST-MODIFIED:20250507T065717Z
UID:38402-1746720000-1746727200@www.ifsb.org
SUMMARY:7th Task Force Meeting of Technical Note on Recovery and Resolution of Takāful Undertakings
DESCRIPTION:
URL:https://www.ifsb.org/event/7th-task-force-meeting-of-technical-note-on-recovery-and-resolution-of-takaful-undertakings/
CATEGORIES:Meetings
END:VEVENT
BEGIN:VEVENT
DTSTART;TZID=Asia/Kuala_Lumpur:20250507T160000
DTEND;TZID=Asia/Kuala_Lumpur:20250507T180000
DTSTAMP:20260420T194346
CREATED:20250507T065812Z
LAST-MODIFIED:20250507T065815Z
UID:38399-1746633600-1746640800@www.ifsb.org
SUMMARY:5th IFSB Working Group for the Guiding Principles for Effective Supervision of Sharīʿah Governance
DESCRIPTION:
URL:https://www.ifsb.org/event/5th-ifsb-working-group-for-the-guiding-principles-for-effective-supervision-of-shari%ca%bfah-governance/
CATEGORIES:Meetings
END:VEVENT
BEGIN:VEVENT
DTSTART;TZID=Asia/Kuala_Lumpur:20250506T153000
DTEND;TZID=Asia/Kuala_Lumpur:20250506T173000
DTSTAMP:20260420T194346
CREATED:20250507T065902Z
LAST-MODIFIED:20250507T070206Z
UID:38397-1746545400-1746552600@www.ifsb.org
SUMMARY:2nd IFSB Working Group meeting for the Revised Risk Management for the Islamic Insurance
DESCRIPTION:
URL:https://www.ifsb.org/event/2nd-ifsb-working-group-meeting-for-the-revised-risk-management-for-the-islamic-insurance/
CATEGORIES:Meetings
END:VEVENT
BEGIN:VEVENT
DTSTART;TZID=UTC:20240702T000000
DTEND;TZID=UTC:20240702T235959
DTSTAMP:20260420T194346
CREATED:20240517T072419Z
LAST-MODIFIED:20240717T030637Z
UID:33205-1719878400-1719964799@www.ifsb.org
SUMMARY:44th Council Meeting of the IFSB
DESCRIPTION:The 44th Council Meeting of the IFSB are hosted by Banque Centrale De Djibouti.  \nParticipation in the 44th Council Meeting of the IFSB is by invitation only. Please email your enquiries to Ms. Nurul Ashikin at nurulashikin@ifsb.org and Ms. Farhana Alhabshi at farhana@ifsb.org. \nThe IFSB and Banque Centrale De Djibouti look forward to welcoming the Full Members of the IFSB to Djibouti City\, Djibouti.
URL:https://www.ifsb.org/event/44th-council-meeting-of-the-ifsb/
LOCATION:Djibouti City
CATEGORIES:Meetings
ATTACH;FMTTYPE=image/png:https://www.ifsb.org/wp-content/uploads/2023/12/Group-1146.png
END:VEVENT
BEGIN:VEVENT
DTSTART;TZID=UTC:20240701T000000
DTEND;TZID=UTC:20240701T235959
DTSTAMP:20260420T194346
CREATED:20240517T072605Z
LAST-MODIFIED:20240520T090418Z
UID:33207-1719792000-1719878399@www.ifsb.org
SUMMARY:IFSB 2024 Annual Meetings and Side Events
DESCRIPTION:The IFSB 2024 Annual Meetings and Side Events are hosted by Banque Centrale De Djibouti. Details of the events will be updated in due course. \nParticipation in the IFSB 2024 Annual Meetings and Side Events is by invitation only. Please email your enquiries to Ms. Nurul Ashikin at nurulashikin@ifsb.org and Ms. Farhana at farhana@ifsb.org \nThe IFSB and Banque Centrale De Djibouti look forward to welcoming members of the IFSB and Islamic finance industry stakeholders to Djibouti City\, Djibouti. \nNote: The IFSB reserves the right to make any necessary amendments/changes to the programme without prior notification
URL:https://www.ifsb.org/event/ifsb-2024-annual-meetings-and-side-events/
LOCATION:Djibouti City
CATEGORIES:Meetings
ATTACH;FMTTYPE=image/png:https://www.ifsb.org/wp-content/uploads/2023/12/Group-1146.png
END:VEVENT
BEGIN:VEVENT
DTSTART;TZID=UTC:20240611T150000
DTEND;TZID=UTC:20240611T190000
DTSTAMP:20260420T194346
CREATED:20240517T072630Z
LAST-MODIFIED:20240517T072630Z
UID:33370-1718118000-1718132400@www.ifsb.org
SUMMARY:6th Task Force Meeting on Recovery and Resolution of Takāful Undertakings
DESCRIPTION:The 6th Task Force Meeting on Recovery and Resolution of Takāful Undertakings is scheduled to be held as follows: \n\n\n\nDate\n11 June 2024\n\n\nTime\n3.00 PM (GMT +8.00\, KL Time)\n\n\nVenue\nMS Teams\n\n\n\nParticipation in the meeting is open to the Task Force members only. For more information\, please email to nurulashikin@ifsb.org
URL:https://www.ifsb.org/event/6th-task-force-meeting-on-recovery-and-resolution-of-takaful-undertakings/
LOCATION:MS Teams
CATEGORIES:Meetings
ATTACH;FMTTYPE=image/png:https://www.ifsb.org/wp-content/uploads/2023/12/Group-1146.png
END:VEVENT
BEGIN:VEVENT
DTSTART;TZID=UTC:20240606T150000
DTEND;TZID=UTC:20240606T190000
DTSTAMP:20260420T194346
CREATED:20240517T072633Z
LAST-MODIFIED:20240517T072633Z
UID:33368-1717686000-1717700400@www.ifsb.org
SUMMARY:1st IFSB Working Group for the Revised Standard on Risk Management for Takāful Undertakings
DESCRIPTION:The 1st IFSB Working Group for the Revised Standard on Risk Management for Takāful Undertakings is scheduled to be held as follows: \n\n\n\nDate\n6 June 2024\n\n\nTime\n3.00 PM (GMT +8.00\, KL Time)\n\n\nVenue\nMS Teams\n\n\n\nParticipation in the meeting is open to the Working Group members only. For more information\, please email to nurulashikin@ifsb.org
URL:https://www.ifsb.org/event/1st-ifsb-working-group-for-the-revised-standard-on-risk-management-for-takaful-undertakings/
LOCATION:MS Teams
CATEGORIES:Meetings
ATTACH;FMTTYPE=image/png:https://www.ifsb.org/wp-content/uploads/2023/12/Group-1146.png
END:VEVENT
BEGIN:VEVENT
DTSTART;TZID=UTC:20240604T150000
DTEND;TZID=UTC:20240604T190000
DTSTAMP:20260420T194346
CREATED:20240517T072646Z
LAST-MODIFIED:20240517T072711Z
UID:33365-1717513200-1717527600@www.ifsb.org
SUMMARY:1st IFSB Working Group for the Revised Guiding Principles on Sharīʿah Governance for IIFS
DESCRIPTION:The 1st IFSB Working Group for the Revised Guiding Principles on Sharīʿah Governance for IIFS is scheduled to be held as follows: \n\n\n\nDate\n4 June 2024\n\n\nTime\n3.00 PM (GMT +8.00\, KL Time)\n\n\nVenue\nMS Teams\n\n\n\nParticipation in the meeting is open to the Working Group members only. For more information\, please email to nurulashikin@ifsb.org
URL:https://www.ifsb.org/event/1st-ifsb-working-group-for-the-revised-guiding-principles-on-shari%ca%bfah-governance-for-iifs/
LOCATION:MS Teams
CATEGORIES:Meetings
ATTACH;FMTTYPE=image/png:https://www.ifsb.org/wp-content/uploads/2023/12/Group-1146.png
END:VEVENT
BEGIN:VEVENT
DTSTART;TZID=Asia/Kuala_Lumpur:20240529T000000
DTEND;TZID=Asia/Kuala_Lumpur:20240529T235959
DTSTAMP:20260420T194346
CREATED:20240517T074703Z
LAST-MODIFIED:20240517T074712Z
UID:33372-1716940800-1717027199@www.ifsb.org
SUMMARY:11th Executive Committee Meeting of the IFSB
DESCRIPTION: \nThe Secretariat is pleased to announce that the 11th Executive Committee Meeting of the IFSB will be held online on Wednesday\, 29 May 2024. \nParticipation in the meeting is open to the Executive Committee members only. For more information or enquiries\, please email to nurulashikin@ifsb.org.
URL:https://www.ifsb.org/event/11th-executive-committee-meeting-of-the-ifsb/
LOCATION:MS Teams
CATEGORIES:Meetings
ATTACH;FMTTYPE=image/png:https://www.ifsb.org/wp-content/uploads/2023/12/Group-1146.png
END:VEVENT
BEGIN:VEVENT
DTSTART;TZID=UTC:20240422T000000
DTEND;TZID=UTC:20240422T235959
DTSTAMP:20260420T194346
CREATED:20240321T074429Z
LAST-MODIFIED:20240321T074434Z
UID:32721-1713744000-1713830399@www.ifsb.org
SUMMARY:IFSB 62nd Technical Committee Meeting
DESCRIPTION:The 62nd Technical Committee Meeting of the IFSB is scheduled to be held as follow: \n\n\n\nDate\n22 April 2024\n\n\nTime\n3.00 PM (GMT +8.00\, KL time)\n\n\nVenue\nOnline – MS Teams\n\n\n\nParticipation in the meeting is open to the Technical Committee members only. For more information\, please email to nurulashikin@ifsb.org
URL:https://www.ifsb.org/event/ifsb-62nd-technical-committee-meeting/
LOCATION:Online
CATEGORIES:Meetings
ATTACH;FMTTYPE=image/png:https://www.ifsb.org/wp-content/uploads/2023/12/Group-1146.png
END:VEVENT
BEGIN:VEVENT
DTSTART;TZID=UTC:20240327T000000
DTEND;TZID=UTC:20240327T235959
DTSTAMP:20260420T194346
CREATED:20240321T074533Z
LAST-MODIFIED:20240321T074542Z
UID:32719-1711497600-1711583999@www.ifsb.org
SUMMARY:2nd QIC meeting on IFSI Stability Report 2024
DESCRIPTION:The 2nd QIC meeting on IFSI Stability Report 2024 is scheduled to be held as follows:  \n\n\n\nDate\n27 March 2024\n\n\nTime\n3.00 PM (GMT +8.00\, KL Time)\n\n\nVenue\nMS Teams\n\n\n\nParticipation in the meeting is open to the Task Force members only. For more information\, please email to nurulashikin@ifsb.org 
URL:https://www.ifsb.org/event/2nd-qic-meeting-on-ifsi-stability-report-2024/
LOCATION:Multipurpose Hall 2.01\, AICB Building\, Levels 11 & 12\, Bangunan AICB\, 10\,Jalan Dato Onn\, Kuala Lumpur\, Malaysia
CATEGORIES:Meetings
ATTACH;FMTTYPE=image/png:https://www.ifsb.org/wp-content/uploads/2023/12/Group-1146.png
END:VEVENT
BEGIN:VEVENT
DTSTART;TZID=UTC:20240319T000000
DTEND;TZID=UTC:20240319T235959
DTSTAMP:20260420T194346
CREATED:20240321T075322Z
LAST-MODIFIED:20240321T075330Z
UID:32723-1710806400-1710892799@www.ifsb.org
SUMMARY:1st Subcommittee Meeting of the Guidance Note on Regulation and Supervision of Climate-related Financial Risks for IIFS (Banking Segment)
DESCRIPTION:The 1st Subcommittee Meeting of the Guidance Note on Regulation and Supervision of Climate-related Financial Risks for IIFS (Banking Segment) is scheduled to be held as follows: \n\n\n\nDate\n19 March 2024\n\n\nTime\n3.00 PM (GMT +8.00\, KL Time)\n\n\nVenue\nMS Teams\n\n\n\nParticipation in the meeting is open to the Subcommittee members only. For more information\, please email to nurulashikin@ifsb.org
URL:https://www.ifsb.org/event/1st-subcommittee-meeting-of-the-guidance-note-on-regulation-and-supervision-of-climate-related-financial-risks-for-iifs-banking-segment/
LOCATION:MS Teams
CATEGORIES:Meetings
ATTACH;FMTTYPE=image/png:https://www.ifsb.org/wp-content/uploads/2023/12/Group-1146.png
END:VEVENT
BEGIN:VEVENT
DTSTART;TZID=Asia/Kuala_Lumpur:20240318T000000
DTEND;TZID=Asia/Kuala_Lumpur:20240318T235959
DTSTAMP:20260420T194346
CREATED:20231001T160003Z
LAST-MODIFIED:20240321T075438Z
UID:3759-1710720000-1710806399@www.ifsb.org
SUMMARY:6th Task Force Meeting of Technical Note on Macroprudential Tools for IIFS (banking segment)
DESCRIPTION:The 6th Task Force Meeting of Technical Note on Macroprudential Tools for IIFS (banking segment) is scheduled to be held as follows: \n\n\n\nDate\n18 March 2024\n\n\nTime\n3.00 PM (GMT +8.00\, KL Time)\n\n\nVenue\nMS Teams\n\n\n\nParticipation in the meeting is open to the Task Force members only. For more information\, please email to nurulashikin@ifsb.org
URL:https://www.ifsb.org/event/6th-task-force-meeting-of-technical-note-on-macroprudential-tools-for-iifs-banking-segment/
LOCATION:MS Teams
CATEGORIES:Meetings
ATTACH;FMTTYPE=image/png:https://www.ifsb.org/wp-content/uploads/2023/12/Group-1146.png
END:VEVENT
BEGIN:VEVENT
DTSTART;TZID=UTC:20240226T000000
DTEND;TZID=UTC:20240226T235959
DTSTAMP:20260420T194346
CREATED:20240321T074802Z
LAST-MODIFIED:20240321T074811Z
UID:32717-1708905600-1708991999@www.ifsb.org
SUMMARY:2nd Task Force meeting of the Guidance Note on Regulation and Supervision of Climate-related Financial Risks for IIFS (Banking Segment)
DESCRIPTION:The 2nd Task Force meeting of the Guidance Note on Regulation and Supervision of Climate-related Financial Risks for IIFS (Banking Segment) is scheduled to be held as follows: \n\n\n\nDate\n26 February 2024\n\n\nTime\n3.00 PM (GMT +8.00\, KL Time)\n\n\nVenue\nMS Teams\n\n\n\nParticipation in the meeting is open to the Task Force members only. For more information\, please email to nurulashikin@ifsb.org
URL:https://www.ifsb.org/event/2nd-task-force-meeting-of-the-guidance-note-on-regulation-and-supervision-of-climate-related-financial-risks-for-iifs-banking-segment/
LOCATION:MS Teams
CATEGORIES:Meetings
ATTACH;FMTTYPE=image/png:https://www.ifsb.org/wp-content/uploads/2023/12/Group-1146.png
END:VEVENT
BEGIN:VEVENT
DTSTART;TZID=UTC:20231229T000000
DTEND;TZID=UTC:20231229T235959
DTSTAMP:20260420T194346
CREATED:20231211T160011Z
LAST-MODIFIED:20240717T032811Z
UID:5738-1703808000-1703894399@www.ifsb.org
SUMMARY:43rd Council Meeting of the IFSB
DESCRIPTION:The 43rd Council Meeting of the IFSB are hosted by Saudi Central Bank (SAMA). The details of the programme are as follows: \nThursday\, 28 December 2023 \n\nGala Dinner (for IFSB Full Members and SAMA’s invitees only)\n\n  \nFriday\, 29 December 2023 \n\n43rd Council Meeting of the IFSB (closed session and by invitation ONLY)\n\n  \nParticipation in the 43rd Council Meeting of the IFSB is by invitation only. Please email your enquiries to Ms. Nurul Ashikin at nurulashikin@ifsb.org and Ms. Farhana Alhabshi at farhana@ifsb.org. \nThe IFSB and Saudi Central Bank look forward to welcoming the Full Members of the IFSB to Jeddah\, Kingdom of Saudi Arabia.
URL:https://www.ifsb.org/event/eve00655-43rd-council-meeting-of-the-ifsb/
LOCATION:The Ritz-Carlton Jeddah\, District Southern Corniche\, Al Hamraa\, Al-Hamra'a\, Jeddah\, Saudi Arabia
CATEGORIES:Meetings
ATTACH;FMTTYPE=image/png:https://www.ifsb.org/wp-content/uploads/2023/12/Group-1146.png
END:VEVENT
BEGIN:VEVENT
DTSTART;TZID=UTC:20231130T000000
DTEND;TZID=UTC:20231130T235959
DTSTAMP:20260420T194346
CREATED:20231024T160045Z
LAST-MODIFIED:20231222T070718Z
UID:5740-1701302400-1701388799@www.ifsb.org
SUMMARY:5th Task Force Meeting on Recovery and Resolution of Takāful Undertakings
DESCRIPTION:The 5th Task Force Meeting on Recovery and Resolution of Takāful Undertakingsis scheduled to be held as follows:  \n\n\n\nDate\n30 November 2023\n\n\nTime\n3.00 PM (GMT +8.00\, KL Time)\n\n\nVenue\nMS Teams\n\n\n\nParticipation in the meeting is open to the Task Force members only. For more information\, please email to nurulashikin@ifsb.org 
URL:https://www.ifsb.org/event/eve00654-20th-task-force-meeting-on-prudential-and-structural-islamic-financial-indicators-psifis/
CATEGORIES:Meetings
ATTACH;FMTTYPE=image/png:https://www.ifsb.org/wp-content/uploads/2023/12/Group-1146.png
END:VEVENT
BEGIN:VEVENT
DTSTART;TZID=Asia/Kuala_Lumpur:20231120T000000
DTEND;TZID=Asia/Kuala_Lumpur:20231120T235959
DTSTAMP:20260420T194346
CREATED:20231119T223600Z
LAST-MODIFIED:20231222T070741Z
UID:21552-1700438400-1700524799@www.ifsb.org
SUMMARY:10th Executive Committee Meeting of the IFSB
DESCRIPTION: \nThe Secretariat is pleased to announce that the 10th Executive Committee Meeting of the IFSB will be held online on Monday\, 20 November 2023. \nParticipation in the meeting is open to the Executive Committee members only. For more information or enquiries\, please email to fadhila@ifsb.org.
URL:https://www.ifsb.org/event/eve00659-10th-executive-committee-meeting-of-the-ifsb-2/
LOCATION:MS Teams
CATEGORIES:Meetings
ATTACH;FMTTYPE=image/png:https://www.ifsb.org/wp-content/uploads/2023/12/Group-1146.png
END:VEVENT
BEGIN:VEVENT
DTSTART;VALUE=DATE:20231023
DTEND;VALUE=DATE:20231025
DTSTAMP:20260420T194346
CREATED:20231022T160031Z
LAST-MODIFIED:20231222T070840Z
UID:5743-1698019200-1698191999@www.ifsb.org
SUMMARY:IFSB 61st Meeting of the Technical Committee
DESCRIPTION:The 61st Meeting of the Technical Committee of the IFSB is scheduled to be held as follows \n\n\n\nDate\n23 – 24 October 2023\n\n\nTime\n10:00 – 15:00 (Day-1) / 10:00 – 12:00 (Day-2) – (GMT+8\, Malaysia time)\n\n\nVenue\nMultipurpose Hall 2.01\, Asian Institute of Chartered Bankers (AICB)\, Kuala Lumpur\, Malaysia\n\n\n\n  \nParticipation in the meeting is by invitation and open to the Technical Committee (TC) Members only. For more information or enquiries\, please email to Ms. Fadhila at fadhila@ifsb.org
URL:https://www.ifsb.org/event/eve00650-ifsb-61st-meeting-of-the-technical-committee/
LOCATION:Multipurpose Hall 2.01\, AICB Building\, Levels 11 & 12\, Bangunan AICB\, 10\,Jalan Dato Onn\, Kuala Lumpur\, Malaysia
CATEGORIES:Meetings
ATTACH;FMTTYPE=image/png:https://www.ifsb.org/wp-content/uploads/2023/12/Group-1146.png
END:VEVENT
BEGIN:VEVENT
DTSTART;VALUE=DATE:20230907
DTEND;VALUE=DATE:20230908
DTSTAMP:20260420T194346
CREATED:20230906T160002Z
LAST-MODIFIED:20231222T070900Z
UID:3765-1694044800-1694131199@www.ifsb.org
SUMMARY:3rd Task Force Meeting on Recovery and Resolution of Takāful Undertakings
DESCRIPTION:The 3rd Task Force Meeting on Recovery and Resolution of Takāful Undertakings is scheduled to be held as follows: \n\n\n\nDate\n7 September 2023\n\n\nTime\n3.30 PM (GMT +8.00\, KL Time)\n\n\nVenue\nMS Teams\n\n\n\n  \nParticipation in the meeting is open to the Task Force members only. For more information\, please email to nurulashikin@ifsb.org
URL:https://www.ifsb.org/event/eve00649-3rd-task-force-meeting-on-recovery-and-resolution-of-takaful-undertakings/
LOCATION:MS Teams
CATEGORIES:Meetings
ATTACH;FMTTYPE=image/png:https://www.ifsb.org/wp-content/uploads/2023/12/Group-1146.png
END:VEVENT
BEGIN:VEVENT
DTSTART;VALUE=DATE:20230814
DTEND;VALUE=DATE:20230815
DTSTAMP:20260420T194346
CREATED:20230813T160042Z
LAST-MODIFIED:20231226T073554Z
UID:3812-1691971200-1692057599@www.ifsb.org
SUMMARY:IFSB 2023 Annual Meetings and Side Events
DESCRIPTION:The IFSB 2023 Annual Meetings and Side Events are hosted by Saudi Central Bank. The details of the events are as follows: \nMonday\, 14 August 2023 \n\nIFSB Capacity Building Programme for Market Players (CBM) Workshop (closed session & by invitation ONLY)\n\n\n1st IFSB Consultative Group (ICG) Meeting (closed session & by invitation ONLY)\n\n\nFIS Workshop on Capital Market Sector (closed session & by invitation ONLY)\n\n\n3rd IFSB CEO’s Forum (Open to all)\n\nTuesday\, 15 August 2023 \n\nIFSB IFSI Stability Forum 2023 (Open to all)\n\n\nIFSB 20th Anniversary Symposium and Launching of Publication (open to all)\n\n\nIFSB 20th Anniversary Dinner (for IFSB members\, Accompanying Officers & SAMA’s invitees ONLY)\n\n Wednesday\, 16 August 2023 \n\n42nd IFSB Council Meeting (closed session & by invitation ONLY)\n\n\n21st General Assembly (for IFSB members ONLY)\n\nParticipation in the IFSB 2023 Annual Meetings and Side Events is by invitation only. Please email your enquiries to Ms. Fadhila at fadhila@ifsb.org and Ms. Farhana at farhana@ifsb.org \nThe IFSB and Saudi Central Bank look forward to welcoming members of the IFSB and Islamic finance industry stakeholders to Kingdom of Saudi Arabia. \nNote: The IFSB reserves the right to make any necessary amendments/changes to the Council meeting and other programme without prior notification
URL:https://www.ifsb.org/event/eve00624-ifsb-2023-annual-meetings-and-side-events/
LOCATION:Fairmont Riyadh\, Area\, Business Gate\, Qurtubah\, Riyadh\, Saudi Arabia
CATEGORIES:Meetings
ATTACH;FMTTYPE=image/png:https://www.ifsb.org/wp-content/uploads/2023/12/Group-1146.png
END:VEVENT
BEGIN:VEVENT
DTSTART;TZID=Asia/Kuala_Lumpur:20230731T143000
DTEND;TZID=Asia/Kuala_Lumpur:20230802T183000
DTSTAMP:20260420T194346
CREATED:20230730T160031Z
LAST-MODIFIED:20231226T073652Z
UID:3823-1690813800-1691001000@www.ifsb.org
SUMMARY:IFSB 40th Arabic Editing Committee Meeting
DESCRIPTION:The 40th Arabic Editing Committee Meeting of the IFSB is scheduled to be held as follow : \n\n\n\nDate\n31 July 2023 – 2 August 2023\n\n\nTime\n2.30 PM – 6.30 PM (GMT +8.00\, KL time)\n\n\nVenue\nWeb conference / webinar\n\n\n\n  \nParticipation in the meeting is open to the Arabic Editing Committee members only. For more information\, please email to fadhila@ifsb.org.
URL:https://www.ifsb.org/event/eve00640-ifsb-40th-arabic-editing-committee-meeting/
LOCATION:Online
CATEGORIES:Meetings
ATTACH;FMTTYPE=image/png:https://www.ifsb.org/wp-content/uploads/2023/12/Group-1146.png
END:VEVENT
END:VCALENDAR