BEGIN:VCALENDAR
VERSION:2.0
PRODID:-//Islamic Financial Services Board - ECPv6.15.18//NONSGML v1.0//EN
CALSCALE:GREGORIAN
METHOD:PUBLISH
X-WR-CALNAME:Islamic Financial Services Board
X-ORIGINAL-URL:https://www.ifsb.org
X-WR-CALDESC:Events for Islamic Financial Services Board
REFRESH-INTERVAL;VALUE=DURATION:PT1H
X-Robots-Tag:noindex
X-PUBLISHED-TTL:PT1H
BEGIN:VTIMEZONE
TZID:Asia/Kuala_Lumpur
BEGIN:STANDARD
TZOFFSETFROM:+0800
TZOFFSETTO:+0800
TZNAME:+08
DTSTART:20230101T000000
END:STANDARD
END:VTIMEZONE
BEGIN:VEVENT
DTSTART;TZID=Asia/Kuala_Lumpur:20241128T153000
DTEND;TZID=Asia/Kuala_Lumpur:20241128T173000
DTSTAMP:20260421T212006
CREATED:20241114T032005Z
LAST-MODIFIED:20250122T045512Z
UID:35904-1732807800-1732815000@www.ifsb.org
SUMMARY:MIES\, 6th INNOVATION FORUM AND 4th CEO'S FORUM
DESCRIPTION:Join Us for the MIES\, Innovation Forum & CEO’s Forum on 28 November 2024 (Virtual) \n\n\n\nDon’t miss out on this opportunity to be part of the conversation and drive positive change in the Islamic finance sector. \n\n\n\nRegister now and secure your spot! https://bit.ly/innov-ceo-forums-reg
URL:https://www.ifsb.org/event/mies-6th-innovation-forum-and-4th-ceos-forum/
CATEGORIES:Awareness Programme
END:VEVENT
END:VCALENDAR