BEGIN:VCALENDAR
VERSION:2.0
PRODID:-//Islamic Financial Services Board - ECPv6.15.18//NONSGML v1.0//EN
CALSCALE:GREGORIAN
METHOD:PUBLISH
X-ORIGINAL-URL:https://www.ifsb.org
X-WR-CALDESC:Events for Islamic Financial Services Board
REFRESH-INTERVAL;VALUE=DURATION:PT1H
X-Robots-Tag:noindex
X-PUBLISHED-TTL:PT1H
BEGIN:VTIMEZONE
TZID:Asia/Kuala_Lumpur
BEGIN:STANDARD
TZOFFSETFROM:+0800
TZOFFSETTO:+0800
TZNAME:+08
DTSTART:20230101T000000
END:STANDARD
END:VTIMEZONE
BEGIN:VEVENT
DTSTART;TZID=Asia/Kuala_Lumpur:20240527T093000
DTEND;TZID=Asia/Kuala_Lumpur:20240527T130000
DTSTAMP:20260423T223611
CREATED:20240520T093939Z
LAST-MODIFIED:20240605T065611Z
UID:33386-1716802200-1716814800@www.ifsb.org
SUMMARY:22nd Islamic Financial Stability Forum- Resilience and Stability of the Islamic Financial Services Industry in an Evolving Risk Environment
DESCRIPTION:The 22nd Islamic Finance Stability Forum themed “Resilience and Stability of the Islamic Financial Services Industry in an Evolving Risk Environment” is designed to address the unique challenges and opportunities faced by the Islamic financial services industry amidst rapidly changing global risk landscapes. The main objective of the forum is to offer a forward-looking perspective\, providing key insights into the current trends\, growth drivers and soundness of the Islamic financial services industry and its outlook amid an uncertain and increasingly complex global environment
URL:https://www.ifsb.org/event/22nd-islamic-financial-stability-forum/
LOCATION:Kuala Lumpur Convention Centre\, Kuala Lumpur City Centre\, Kuala Lumpur\, Federal Territory of Kuala Lumpur\, 50088\, Malaysia
CATEGORIES:Awareness Programme
ATTACH;FMTTYPE=image/png:https://www.ifsb.org/wp-content/uploads/2024/05/ifsf-1.png
END:VEVENT
END:VCALENDAR