BEGIN:VCALENDAR
VERSION:2.0
PRODID:-//Islamic Financial Services Board - ECPv6.15.18//NONSGML v1.0//EN
CALSCALE:GREGORIAN
METHOD:PUBLISH
X-WR-CALNAME:Islamic Financial Services Board
X-ORIGINAL-URL:https://www.ifsb.org
X-WR-CALDESC:Events for Islamic Financial Services Board
REFRESH-INTERVAL;VALUE=DURATION:PT1H
X-Robots-Tag:noindex
X-PUBLISHED-TTL:PT1H
BEGIN:VTIMEZONE
TZID:UTC
BEGIN:STANDARD
TZOFFSETFROM:+0000
TZOFFSETTO:+0000
TZNAME:UTC
DTSTART:20110101T000000
END:STANDARD
END:VTIMEZONE
BEGIN:VEVENT
DTSTART;TZID=UTC:20120827T090000
DTEND;TZID=UTC:20120830T180000
DTSTAMP:20260425T183552
CREATED:20120826T194233Z
LAST-MODIFIED:20231228T015735Z
UID:12058-1346058000-1346349600@www.ifsb.org
SUMMARY:BNM-IFSB Financial Inclusion Advisers Programme and Seminar on Islamic Microfinance
DESCRIPTION:This Programme and Seminar is co-organised with Bank Negara Malaysia. More information shall be uploaded in due course. Please email ifsb_sec@ifsb.org should you wish to register your interest to participate. \nProgramme – Event Session(s) \n\n\n\nDate\nTime\nTopics\n\n\nDay 1\n27/08/2012\nBNM-IFSB FINANCIAL INCLUSION ADVISERS PROGRAMME\n\n\n09:00 – 09:10\nWelcoming Remarks\n\n\n09:10 – 09:20\nProgramme Brief and Administration Participants will be given a short administrative briefing to facilitate effective participation in the programme and during their stay in Malaysia\n\n\n09:20 – 10:30\nSession 1: Financial Inclusion as a National Strategic Agenda The purpose of the session is to give an overview of the different types of policies and interventions that collectively help shape a more inclusive financial sector. The session will give special emphasis to the importance of coordination amongst key stakeholders from Government\, financial regulation and the financial industry in implementing action plans that cut across different institutions.\n\n\n10:30 – 11:00\nTea break\n\n\n11:00 – 12:00\nSession 2: Key Building Blocks for Sustainable Financial Inclusion The purpose of the session is to learn from the work of the Alliance for Financial Inclusion in promoting financial inclusion globally through specific building blocks of knowledge and best practice.\n\n\n12:00 – 12:30\nSession 3: Q&A and Sharing of Country Experiences\n\n\n12:30 – 13:45\nLunch\n\n\n14:00 – 15:30\nSession 4: Trend\, Opportunities and Challenges in Financial Inclusion\n\n\n15:30 – 16:00\nPhotography Session and Tea Break\n\n\n16:00 – 17:00\nSession 5: Enhancing the Capacity of SMEs to Participate in the Economy The purpose of the session is to share how institutional capacity at the national level can provide support to SMEs that do not have the requisite internal capacity to compete with more established businesses. This form of institutional capacity can provide training opportunities\, marketing advisory services\, business linkages and other management advisory services.\n\n\n17:00 – 18:00\nWelcoming Reception\n\n\nDay 2\n28/08/2012\nBNM-IFSB FINANCIAL INCLUSION ADVISERS PROGRAMME\n\n\n09:00 – 10:30\nSession 6: Policies – Regulation and Supervision & Financial Inclusion Consultative Group to Assist the Poor (CGAP)\, The World Bank\n\n\n10:30 – 11:00\nTea break\n\n\n11:00 – 12:30\nSession 7: The Malaysian Financial Sector Blueprint Financial Inclusion This session aims to provide an overview of the forward looking strategic thrusts of the 2011 – 2020 Malaysian Financial Sector Blueprint that aim to promote greater financial inclusion for greater shared prosperity. The session will include an overview of recent initiatives in developing a more robust framework for the collection and use of financial inclusion data to support evidence based policy making.\n\n\n12:30 – 13:45\nLunch\n\n\n14:00 – 15:15\nSession 8: The Malaysian Financial Sector Blueprint Consumer Empowerment This session aims to provide an overview of the forward looking strategic thrusts of the 2011 – 2020 Malaysian Financial Sector Blueprint in the area of consumer empowerment\, which will in turn enable more sustainable financial inclusion.\n\n\n15:15 – 15:45\nTea Break\n\n\n15:45 – 17:00\nSession 9: Consumer Protection and Financial Education Malaysia Deposit Insurance Corporation\n\n\nDay 3\n29/08/2012\nBNM-IFSB FINANCIAL INCLUSION ADVISERS PROGRAMME\n\n\n09:00 – 10:30\nSession 10: A Practitioner’s Perspective of Microfinance The session aims to consider microfinance and financial inclusion from the practitioners’ perspective in order to understand challenges and innovative solutions experienced by industry in developing more inclusive financial sectors.\n\n\n10:30 – 11:00\nTea break\n\n\n11:00 – 12:00\nSession 11: Banking beyond Branches This session aims to develop deeper understanding of how branchless banking is promoting greater financial inclusion\, and how innovative strategies have successfully overcome the hurdles and risks\n\n\n12:00 – 12:30\nSession 12: Developing Qualified Microfinance Professionals The purpose of this session is to understand how to better develope qualified microfinnacr professionals to ensure sustainable and progressive development of microfinnace.\n\n\n12:30 – 14:00\nLunch\n\n\n14:00 – 15:00\nSession 13: Credit Guarantee for Small and Medium Enterprises The purpose of the session is to understand how a credit guarantee scheme can enable SMEs to obtain funding at more favorable rates in order to expand their business. The session will explain how such schemes can be established\, and the key operational challenges that need to be managed\n\n\n15:00 – 16:00\nSession 14: Enhancing the Capacity of Micro-enterprises – The Case of Amanah Ikhtiar Malaysia This session will share the experiences of a local Malaysian microfinance credit provider that has adapted the Grameen model to local requirements with considerable success.\n\n\n16:00 – 16:15\nTea Break\n\n\n16:15 – 17:00\nExploring Malaysia Through Art BNM Museum and Art Gallery\n\n\nDay 4\n30/08/2012\nSEMINAR ON ISLAMIC MICROFINANCE\n\n\n09:00 – 09:30\nRegistration\n\n\n09:30 – 09:45\nWelcoming Remarks\n\n\n09:45 – 10:00\nOpening Remarks from Seminar Chairman\n\n\n10:00 – 11:15\nSession 1: Development and Challenges in Islamic Microfinance This session will discuss the recent developments in Islamic microfinance including innovation in the industry\, such as the inclusion of Waqf and micro-Takāful in the Islamic microfinance programme. The discussion will also cover success stories of selected Islamic microfinance providers in order to explore their challenges\, particularly from regulatory and supervisory perspectives.\n\n\n11:15 – 11:45\nTea break\n\n\n11:45 – 13:00\nSession 2 : Comparative Analysis on Regulatory Framework for Islamic Microfinance This session will compare regulatory frameworks for Islamic microfinance institutions in selected IFSB member countries. Comparative analysis on regulatory framework for conventional microfinance counterparts also will be presented in this session.\n\n\n13:00 – 14:30\nLunch\n\n\n14:30 – 15:45\nSession 3 : Issues in Supervisory Review of Islamic Microfinance This session will highlight issues in supervisory review of Islamic microfinance from national and international perspectives. The focus of discussion will be given to Islamic microfinance services provided by banking institutions.\n\n\n15:45 – 17:00\nSession 4 : Panel Discussion – Regulating Islamic Microfinance: The Way Forward In this session\, banking regulators from selected IFSB member countries will discuss future strategies and initiatives in regulating Islamic microfinance in order to promote further development of the respective industry.\n\n\n17:30 – 00:00\nTea break (End of Seminar)\n\n\n\nDownloadable Document(s) \n\n\n\n1.)\n\nEvent Session(s) – PDF Format
URL:https://www.ifsb.org/event/eve00187-bnm-ifsb-financial-inclusion-advisers-programme-and-seminar-on-islamic-microfinance/
LOCATION:Sasana Kijang\, Bank Negara Malaysia\, Kuala Lumpur\, Malaysia
CATEGORIES:Awareness Programme
ATTACH;FMTTYPE=image/png:https://www.ifsb.org/wp-content/uploads/2023/12/Group-1146.png
END:VEVENT
END:VCALENDAR