BEGIN:VCALENDAR
VERSION:2.0
PRODID:-//Islamic Financial Services Board - ECPv6.15.18//NONSGML v1.0//EN
CALSCALE:GREGORIAN
METHOD:PUBLISH
X-WR-CALNAME:Islamic Financial Services Board
X-ORIGINAL-URL:https://www.ifsb.org
X-WR-CALDESC:Events for Islamic Financial Services Board
REFRESH-INTERVAL;VALUE=DURATION:PT1H
X-Robots-Tag:noindex
X-PUBLISHED-TTL:PT1H
BEGIN:VTIMEZONE
TZID:UTC
BEGIN:STANDARD
TZOFFSETFROM:+0000
TZOFFSETTO:+0000
TZNAME:UTC
DTSTART:20110101T000000
END:STANDARD
END:VTIMEZONE
BEGIN:VEVENT
DTSTART;TZID=UTC:20120528T080000
DTEND;TZID=UTC:20120531T170000
DTSTAMP:20260426T112358
CREATED:20120527T194701Z
LAST-MODIFIED:20231228T015813Z
UID:12063-1338192000-1338483600@www.ifsb.org
SUMMARY:IFSB-FIS Workshops for Regulatory and Supervisory Authorities of the IFSB Member Countries for the Islamic Capital Market and Takaful Sectors
DESCRIPTION:These Workshops will address the following IFSB Standards and Guidance Principles: • IFSB-6: Guiding Principles on Governance for Islamic Collective Investment Schemes • IFSB-7: Capital Adequacy Requirements for Sukūk\, Securitisation and Real Estate Investment • IFSB-8: Guiding Principles on Governance for Takāful (Islamic Insurance) Undertakings • IFSB-9: Guiding Principles on Conduct of Business for Institutions Offering Islamic Financial Services • IFSB-10: Guiding Principles on Sharī`ah Governance Systems for Institutions Offering Islamic Financial Services • IFSB-11: Standard on Solvency Requirements for Takāful (Islamic Insurance) Undertakings Participation in these Workshops are by INVITATION only. For more information on these Workshops\, please email to Mrs. Azizakhon Yarlaeva at aziza@ifsb.org.\n\nDownloadable Document(s)\n\n\n\n1.)\n\nFIS Workshop programme – Islamic Capital Market\n\n\n2.)\n\nFIS Workshop programme – Takaful
URL:https://www.ifsb.org/event/eve00182-ifsb-fis-workshops-for-regulatory-and-supervisory-authorities-of-the-ifsb-member-countries-for-the-islamic-capital-market-and-takaful-sectors/
LOCATION:Sasana Kijang\, Bank Negara Malaysia\, Kuala Lumpur\, Malaysia
CATEGORIES:Capacity Building
ATTACH;FMTTYPE=image/png:https://www.ifsb.org/wp-content/uploads/2023/12/Group-1146.png
END:VEVENT
END:VCALENDAR