BEGIN:VCALENDAR
VERSION:2.0
PRODID:-//Islamic Financial Services Board - ECPv6.15.18//NONSGML v1.0//EN
CALSCALE:GREGORIAN
METHOD:PUBLISH
X-WR-CALNAME:Islamic Financial Services Board
X-ORIGINAL-URL:https://www.ifsb.org
X-WR-CALDESC:Events for Islamic Financial Services Board
REFRESH-INTERVAL;VALUE=DURATION:PT1H
X-Robots-Tag:noindex
X-PUBLISHED-TTL:PT1H
BEGIN:VTIMEZONE
TZID:UTC
BEGIN:STANDARD
TZOFFSETFROM:+0000
TZOFFSETTO:+0000
TZNAME:UTC
DTSTART:20100101T000000
END:STANDARD
END:VTIMEZONE
BEGIN:VEVENT
DTSTART;TZID=UTC:20110118T090000
DTEND;TZID=UTC:20110120T160000
DTSTAMP:20260420T131633
CREATED:20110117T204818Z
LAST-MODIFIED:20231228T013054Z
UID:12141-1295341200-1295539200@www.ifsb.org
SUMMARY:IFSB-FIS Workshop Series (Egypt) : IFSB-2 and IFSB-5.
DESCRIPTION:This workshop is hosted by the Central Bank of Egypt. This workshop will address the following IFSB Standards: -IFSB-2: Capital Adequacy Standard for Institutions (other than Insurance Institutions) offering only Islamic Financial Services (IIFS) -IFSB-5: Guidance on Key Elements in the Supervisory Review Process of Institutions offering Islamic Financial Services (excluding Islamic Insurance (Takâful) Institutions and Islamic Mutual Funds) Participation in the Workshop is by INVITATION only. For more information on the Workshop\, please email to Ms. Yazmin Aziz at yazmin@ifsb.org.\n\nProgramme – Event Session(s)\n\n\n\nDate\nTime\nTopics\n\n\nDay 1\n18/01/2011\nINTRODUCTION TO ISLAMIC FINANCE AND IFSB-2: CAPITAL ADEQUACY STANDARD FOR INSTITUTIONS (OTHER THAN INSURANCE INSTITUTIONS) OFFERING ONLY ISLAMIC FINANCIAL SERVICES (IIFS)\n\n\n09:00 – 09:30\nRegistration\n\n\n09:30 – 09:45\nWelcoming Remark\n\n\n09:45 – 11:00\nSession 1 Introduction to Islamic Banking : Concept of Islamic Finance\n\n\n11:00 – 11:30\nCoffee Break\n\n\n11:30 – 13:00\nSession 2 Overview of the IFSB-2 : Capital Adequacy Standard : – Basel Capital Adequacy Framework An overview of IFSB-2 : Capital Adequacy Standard for IIFS Capital Adequacy Formulas\n\n\n13:00 – 14:00\nLunch & Prayers\n\n\n14:00 – 16:00\nSession 3 Measurement of Capital Adequacy Requirements for Credit Risk : – Calculation of Credit Risk in IIFS Credit Risk Mitigation Examples Group Exercise\n\n\nDay 2\n19/01/2011\nIFSB-2 : CAPITAL ADEQUACY STANDARD FOR INSTITUTIONS (OTHER THAN INSURANCE INSTITUTIONS) OFFERING ONLY ISLAMIC FINANCIAL SERVICES (IIFS)\n\n\n09:30 – 11:00\nSession 4 Measurement of Capital Adequacy Requirements for Market Risk : – Calculation of Market Risk in IIFS Examples Group Exercise\n\n\n11:00 – 11:30\nCoffee Break\n\n\n11:30 – 13:00\nSession 5 Measurement of Capital Adequacy Requirements for Operational Risk : – Calculation of Operational Risk in IIFS Individual Exercise CAR Formulas Examples\n\n\n13:00 – 14:00\nLunch & Prayers\n\n\n14:00 – 16:00\nSession 6 Case Study Group Discussion\n\n\nDay 3\n20/01/2011\nIFSB-5 : GUIDANCE ON KEY ELEMENTS IN THE SUPERVISORY REVIEW PROCESS OF INSTITUTIONS OFFERING ISLAMIC FINANCIAL SERVICES (EXCLUDING ISLAMIC INSURANCE (TAKAFUL) INSTITUTIONS AND ISLAMIC MUTUAL FUNDS)\n\n\n09:30 – 11:00\nSession 7 Overview of the IFSB-5 : Supervisory Review Process : – Infrastructure for Effective Supervision Regulatory Capital Requirements Treatment of IAH Risk Management and Corporate Governance (RM\, CG\, Audit and Compliance) Related Party Transactions\n\n\n11:00 – 11:30\nCoffee Break\n\n\n11:30 – 13:00\nSession 8 Disclosure to Promote Transparency and Market Discipline Consolidated and Home-host Supervision Window Operations Real Estate Investments\n\n\n13:00 – 14:00\nLunch & Prayers\n\n\n14:00 – 16:00\nSession 9 Case Analysis (1) & Discussion Case Analysis (2) & Discussion\n\n\n\nDownloadable Document(s)\n\n\n\n1.)\n\nEvent Session(s) – PDF Format
URL:https://www.ifsb.org/event/eve00152-ifsb-fis-workshop-series-egypt-ifsb-2-and-ifsb-5/
LOCATION:The Egyptian Banking Institute\, Cairo\, Egypt
CATEGORIES:Capacity Building
ATTACH;FMTTYPE=image/png:https://www.ifsb.org/wp-content/uploads/2023/12/Group-1146.png
END:VEVENT
END:VCALENDAR