BEGIN:VCALENDAR
VERSION:2.0
PRODID:-//Islamic Financial Services Board - ECPv6.15.18//NONSGML v1.0//EN
CALSCALE:GREGORIAN
METHOD:PUBLISH
X-ORIGINAL-URL:https://www.ifsb.org
X-WR-CALDESC:Events for Islamic Financial Services Board
REFRESH-INTERVAL;VALUE=DURATION:PT1H
X-Robots-Tag:noindex
X-PUBLISHED-TTL:PT1H
BEGIN:VTIMEZONE
TZID:UTC
BEGIN:STANDARD
TZOFFSETFROM:+0000
TZOFFSETTO:+0000
TZNAME:UTC
DTSTART:20080101T000000
END:STANDARD
END:VTIMEZONE
BEGIN:VEVENT
DTSTART;TZID=UTC:20090604T090000
DTEND;TZID=UTC:20090604T153000
DTSTAMP:20260421T024234
CREATED:20090603T190048Z
LAST-MODIFIED:20231228T013412Z
UID:12442-1244106000-1244129400@www.ifsb.org
SUMMARY:Workshop on IFSB Exposure Drafts
DESCRIPTION:The Workshops are hosted by the Central Bank of the UAE. For more information / participation in the workshops\, please email ismawaty@ifsb.org\n\nProgramme – Event Session(s)\n\n\n\nDate\nTime\nTopics\n\n\nDay 1\n04/06/2009\n09:00 – 09:30\nRegistration\n\n\n09:30 – 11:00\nWorkshop on IFSB Exposure Drafts 8 Guiding Principles on Governance for Islamic Insurance (Takaful) Operations\n\n\n11:00 – 11:30\nCoffee Break\n\n\n11:30 – 13:00\nWorkshop on IFSB Exposure Drafts 9 Guiding Principles on Conduct of Business for Institutions Offering Islamic Financial Services\n\n\n13:00 – 14:00\nLunch\n\n\n14:00 – 15:30\nWorkshop on IFSB Exposure Drafts 10 Guiding Principles on Shari’ah Governance System\n\n\n\nDownloadable Document(s)\n\n\n\n1.)\n\nEvent Session(s) – PDF Format\n\n\n2.)\n\nRegistration Form
URL:https://www.ifsb.org/event/eve00105-workshop-on-ifsb-exposure-drafts/
LOCATION:Central Bank of United Arab Emirates\, Abu Dhabi\, United Arab Emirates
CATEGORIES:Awareness Programme
ATTACH;FMTTYPE=image/png:https://www.ifsb.org/wp-content/uploads/2023/12/Group-1146.png
END:VEVENT
END:VCALENDAR