BEGIN:VCALENDAR
VERSION:2.0
PRODID:-//Islamic Financial Services Board - ECPv6.15.18//NONSGML v1.0//EN
CALSCALE:GREGORIAN
METHOD:PUBLISH
X-ORIGINAL-URL:https://www.ifsb.org
X-WR-CALDESC:Events for Islamic Financial Services Board
REFRESH-INTERVAL;VALUE=DURATION:PT1H
X-Robots-Tag:noindex
X-PUBLISHED-TTL:PT1H
BEGIN:VTIMEZONE
TZID:UTC
BEGIN:STANDARD
TZOFFSETFROM:+0000
TZOFFSETTO:+0000
TZNAME:UTC
DTSTART:20070101T000000
END:STANDARD
END:VTIMEZONE
BEGIN:VEVENT
DTSTART;TZID=UTC:20081126T090000
DTEND;TZID=UTC:20081127T163000
DTSTAMP:20260420T101253
CREATED:20081125T192854Z
LAST-MODIFIED:20231228T020207Z
UID:12513-1227690000-1227803400@www.ifsb.org
SUMMARY:4th Seminar on the Regulation of Takaful
DESCRIPTION:The Monetary Authority of Singapore is hosting the Seminar.\n\nProgramme – Event Session(s)\n\n\n\nDate\nTime\nTopics\n\n\nDay 1\n26/11/2008\n09:00 – 09:30\nRegistration\n\n\n09:30 – 10:00\nOpening & Keynote Session Opening Address by Secretary-General of IFSB & Keynote Address by Deputy Managing Director (Prudential Supervision) of Monetary Authority of Singapore\n\n\n10:00 – 10:30\nCOFFEE BREAK\n\n\n10:30 – 12:00\nSession 1: Risk Management – Managing Takaful Risk Risk management practices to support solvency Specificities of the Risk Management practices\n\n\n12:00 – 13:30\nLunch & Prayer\n\n\n13:30 – 15:00\nSession 2: Treatment of Underwriting Surplus Ownership of the underwriting surplus Impact of the distribution of underwriting surplus on the solvency requirement Underwriting surplus as an element of incentive\n\n\n15:00 – 15:30\nCOFFEE BREAK\n\n\n15:30 – 16:30\nSession 3: Retakaful – Issues and Opportunities Types of reinsurance that fit into retakaful solutions Role of retakaful arrangement in solvency of takaful undertaking Application of doctrine of necessity for retakaful\n\n\nDay 2\n27/11/2008\n09:30 – 11:00\nSession 4: Solvency Framework Capital Adequacy Requirement Solvency Requirement\n\n\n11:00 – 11:30\nCOFFEE BREAK\n\n\n11:30 – 12:30\nSession 5: Regulatory Issues Legal issues surrounding the solvency requirement The enforceability of Qard Facility in meeting deficit of the Takaful fund\n\n\n\nDownloadable Document(s)\n\n\n\n1.)\n\nEvent Session(s) – PDF Format
URL:https://www.ifsb.org/event/eve00077-4th-seminar-on-the-regulation-of-takaful/
LOCATION:Grand Hyatt Singapore\, 10 Scotts Rd\,\, Singapore\, Singapore\, 228211\, Singapore
CATEGORIES:Awareness Programme
ATTACH;FMTTYPE=image/png:https://www.ifsb.org/wp-content/uploads/2023/12/Group-1146.png
END:VEVENT
END:VCALENDAR