BEGIN:VCALENDAR
VERSION:2.0
PRODID:-//Islamic Financial Services Board - ECPv6.15.18//NONSGML v1.0//EN
CALSCALE:GREGORIAN
METHOD:PUBLISH
X-WR-CALNAME:Islamic Financial Services Board
X-ORIGINAL-URL:https://www.ifsb.org
X-WR-CALDESC:Events for Islamic Financial Services Board
REFRESH-INTERVAL;VALUE=DURATION:PT1H
X-Robots-Tag:noindex
X-PUBLISHED-TTL:PT1H
BEGIN:VTIMEZONE
TZID:UTC
BEGIN:STANDARD
TZOFFSETFROM:+0000
TZOFFSETTO:+0000
TZNAME:UTC
DTSTART:20070101T000000
END:STANDARD
END:VTIMEZONE
BEGIN:VEVENT
DTSTART;TZID=UTC:20081120T093000
DTEND;TZID=UTC:20081121T121500
DTSTAMP:20260421T000659
CREATED:20081119T193703Z
LAST-MODIFIED:20231228T020222Z
UID:12539-1227173400-1227269700@www.ifsb.org
SUMMARY:IFSB-IIF Conference: Enhancing the Resilience and Stability of the Islamic Financial System
DESCRIPTION:The Islamic Financial Services Board (IFSB) and the Institute of International Finance (IIF) are jointly organising Conference open to all IFSB & IIF members\, as well as interested parties. Bank Negara Malaysia is hosting.\n\nProgramme – Event Session(s)\n\n\n\nDate\nTime\nTopics\n\n\nDay 1\n20/11/2008\n09:30 – 10:30\nOpening Ceremony\n\n\n11:00 – 12:00\nSession 1 Resilience and Stability of the Islamic Financial System – An Overview\n\n\n14:00 – 16:30\nSession 2 Prerequisites for Resilience and Stability of the Islamic Financial System\n\n\n16:00 – 17:30\nSession 3 Prerequisites for Resilience and Stability of the Islamic Financial System\n\n\nDay 2\n21/11/2008\n09:00 – 10:30\nSession 4 Risk Management and Prudential Standards in Islamic Finance: Are they fit to prevent crisis?\n\n\n10:45 – 12:15\nSession 5 Managing the Islamic Financial System in a Crisis\n\n\n\nDownloadable Document(s)\n\n\n\n1.)\n\nEvent Session(s) – PDF Format
URL:https://www.ifsb.org/event/eve00076-ifsb-iif-conference-enhancing-the-resilience-and-stability-of-the-islamic-financial-system/
LOCATION:Mandarin Oriental\, Kuala Lumpur City Centre\, Kuala Lumpur\, Federal Territory of Kuala Lumpur\, 50088\, Malaysia
CATEGORIES:Awareness Programme
ATTACH;FMTTYPE=image/png:https://www.ifsb.org/wp-content/uploads/2023/12/Group-1146.png
END:VEVENT
END:VCALENDAR