BEGIN:VCALENDAR
VERSION:2.0
PRODID:-//Islamic Financial Services Board - ECPv6.15.18//NONSGML v1.0//EN
CALSCALE:GREGORIAN
METHOD:PUBLISH
X-WR-CALNAME:Islamic Financial Services Board
X-ORIGINAL-URL:https://www.ifsb.org
X-WR-CALDESC:Events for Islamic Financial Services Board
REFRESH-INTERVAL;VALUE=DURATION:PT1H
X-Robots-Tag:noindex
X-PUBLISHED-TTL:PT1H
BEGIN:VTIMEZONE
TZID:UTC
BEGIN:STANDARD
TZOFFSETFROM:+0000
TZOFFSETTO:+0000
TZNAME:UTC
DTSTART:20070101T000000
END:STANDARD
END:VTIMEZONE
BEGIN:VEVENT
DTSTART;VALUE=DATE:20081029
DTEND;VALUE=DATE:20081030
DTSTAMP:20260424T175531
CREATED:20081028T193924Z
LAST-MODIFIED:20231228T020239Z
UID:12543-1225238400-1225324799@www.ifsb.org
SUMMARY:13th Meeting of the Council of the IFSB (For Council Members only)
DESCRIPTION:Due to certain unavoidable circumstances\, the Islamic Financial Services Awareness Programmes due to be held in Karachi from the 27 – 31 October 2008 have been cancelled. Any inconvenience caused is highly regretted. Should you require further information\, kindly email farrah@ifsb.org The programmes that have been cancelled are: – 3rd International Conference on Islamic Banking and Finance: Risk Management\, Regulation and Supervision – 2nd Public Lecture on Financial Policy and Stability – Interactive Session on the Financial Health of Islamic Financial Services – 5th International Seminar on Challenges facing the Independence of Shariah Supervisory Boards – Seminar on Monetary Operations and Liquidity Management
URL:https://www.ifsb.org/event/eve00075-13th-meeting-of-the-council-of-the-ifsb-for-council-members-only/
LOCATION:–\, Bali\, Indonesia
CATEGORIES:Awareness Programme
ATTACH;FMTTYPE=image/png:https://www.ifsb.org/wp-content/uploads/2023/12/Group-1146.png
END:VEVENT
END:VCALENDAR