BEGIN:VCALENDAR
VERSION:2.0
PRODID:-//Islamic Financial Services Board - ECPv6.15.18//NONSGML v1.0//EN
CALSCALE:GREGORIAN
METHOD:PUBLISH
X-ORIGINAL-URL:https://www.ifsb.org/ar/
X-WR-CALDESC:Events for Islamic Financial Services Board
REFRESH-INTERVAL;VALUE=DURATION:PT1H
X-Robots-Tag:noindex
X-PUBLISHED-TTL:PT1H
BEGIN:VTIMEZONE
TZID:UTC
BEGIN:STANDARD
TZOFFSETFROM:+0000
TZOFFSETTO:+0000
TZNAME:UTC
DTSTART:20190101T000000
END:STANDARD
END:VTIMEZONE
BEGIN:VEVENT
DTSTART;TZID=UTC:20200826T000000
DTEND;TZID=UTC:20200826T235959
DTSTAMP:20260422T133919
CREATED:20231016T225950Z
LAST-MODIFIED:20240228T084223Z
UID:31938-1598400000-1598486399@www.ifsb.org
SUMMARY:المنتدى الأول لمجلس الخدمات المالية الإسلامية للمدراء التنفيذيين بخصوص جائحة كوفيد-19 وتداعياتها على مؤسسات الخدمات المالية الإسلامية
DESCRIPTION:من المرجح أن يكون للانكماشات غير المسبوقة التي تعاني منها الاقتصادات نظرًا للتدابير المطبقة لاحتواء جائحة كوفيد-19 تداعيات على صناعة الخدمات المالية الإسلامية. فقد اضطرت العديد من مؤسسات الخدمات المالية الإسلامية إلى إجراء تعديلات كبيرة للتكيف مع البيئة الجديدة. ومن المرجح أيضًا أن يتأثر معدل نمو القطاع المالي نظرًا للصدمة الكبيرة التي تعرض لها الاقتصاد. وبالتالي من الضروري في مثل هذه الظروف لمؤسسات الخدمات المالية الإسلامية أن تعالج بشكل فعال التحديات المالية والتشغيلية التي نتجت عن جائحة كوفيد-19، وضمان مرونة الاقتصاد ودعم تعافيه.\n\nكما ستكون هناك فرص جديدة لمؤسسات الخدمات المالية الإسلامية في بيئة ما بعد جائحة كوفيد-19، بما في ذلك الرقمنة والدور الأكبر لأدوات التمويل الاجتماعي الإسلامي التي توفر فرصة لإطلاق العنان للإمكانات طويلة المدى لصناعة الخدمات المالية الإسلامية.\nيهدف المنتدى إلى جمع قادة الصناعة عبر العالم من قطاعات مختلفة للحديث عن خبراتهم والتحديات والفرص التي تولدت من جائحة كوفيد-19، فضلًا عن الإجراءات التي يتعين الأخذ بها لتقوية مرونة صناعة الخدمات المالية الإسلامية، وسبل المضي قدمًا بعد زوال جائحة كوفيد-19.\n\nلمزيد من المعلومات يمكن التواصل مع السيد/ أحمد بركات عبر البريد الإلكتروني: ahmed.barakat@ifsb.org\n\n\n***التسجيل مفتوح لأعضاء مجلس الخدمات المالية الإسلامية فقط***
URL:https://www.ifsb.org/ar/event/%d8%a7%d9%84%d9%85%d9%86%d8%aa%d8%af%d9%89-%d8%a7%d9%84%d8%a3%d9%88%d9%84-%d9%84%d9%85%d8%ac%d9%84%d8%b3-%d8%a7%d9%84%d8%ae%d8%af%d9%85%d8%a7%d8%aa-%d8%a7%d9%84%d9%85%d8%a7%d9%84%d9%8a%d8%a9-%d8%a7/
CATEGORIES:برامج التوعية
ATTACH;FMTTYPE=image/png:https://www.ifsb.org/wp-content/uploads/2023/12/Group-1146.png
END:VEVENT
END:VCALENDAR